BEGIN:VCALENDAR
VERSION:2.0
PRODID:-//FAMÍLIES PEL VALENCIÀ - ECPv6.15.20//NONSGML v1.0//EN
CALSCALE:GREGORIAN
METHOD:PUBLISH
X-WR-CALNAME:FAMÍLIES PEL VALENCIÀ
X-ORIGINAL-URL:https://familiespelvalencia.org
X-WR-CALDESC:Esdeveniments per FAMÍLIES PEL VALENCIÀ
REFRESH-INTERVAL;VALUE=DURATION:PT1H
X-Robots-Tag:noindex
X-PUBLISHED-TTL:PT1H
BEGIN:VTIMEZONE
TZID:Europe/Paris
BEGIN:DAYLIGHT
TZOFFSETFROM:+0100
TZOFFSETTO:+0200
TZNAME:CEST
DTSTART:20240331T010000
END:DAYLIGHT
BEGIN:STANDARD
TZOFFSETFROM:+0200
TZOFFSETTO:+0100
TZNAME:CET
DTSTART:20241027T010000
END:STANDARD
BEGIN:DAYLIGHT
TZOFFSETFROM:+0100
TZOFFSETTO:+0200
TZNAME:CEST
DTSTART:20250330T010000
END:DAYLIGHT
BEGIN:STANDARD
TZOFFSETFROM:+0200
TZOFFSETTO:+0100
TZNAME:CET
DTSTART:20251026T010000
END:STANDARD
BEGIN:DAYLIGHT
TZOFFSETFROM:+0100
TZOFFSETTO:+0200
TZNAME:CEST
DTSTART:20260329T010000
END:DAYLIGHT
BEGIN:STANDARD
TZOFFSETFROM:+0200
TZOFFSETTO:+0100
TZNAME:CET
DTSTART:20261025T010000
END:STANDARD
END:VTIMEZONE
BEGIN:VEVENT
DTSTART;TZID=Europe/Paris:20250928T100000
DTEND;TZID=Europe/Paris:20250928T110000
DTSTAMP:20260424T052726
CREATED:20251020T151330Z
LAST-MODIFIED:20251021T165049Z
UID:10000019-1759053600-1759057200@familiespelvalencia.org
SUMMARY:Museu en família: Una visiteta a l’IVAM
DESCRIPTION:Visites per a adults amb bebés a les exposicions de l’IVAM. \nUna visiteta a l’IVAM posa el focus en les persones adultes que estan criant i que volen continuar gaudint de propostes d’oci cultural sense renunciar a estar amb els seus bebés. És una resposta de l’IVAM a la necessitat de les mares i pares més fans de visitar museus: una visita comentada per les exposicions més recents\, on s’assistisca en parella adult-bebé. En finalitzar el recorregut\, adaptat en temps al grup\, donarem pas a un moment de descans en la nova Sala Blana de l’IVAM. \nExplorarem les exposicions a través de sessions de mediació artística condicionades especialment per a poder realitzar còmodament la lactància\, alimentació o canvi de bolquers sense interrupció\, ni eixir expressament a espais específics\, mentre es realitza l’activitat. Pauses\, racons de descans\, cuidat de les llums\, els sons i la veu. Tot perquè\, a més de cuidar el contingut\, cuidem el benestar dels bebés\, facilitant que les adultes donen de mamar\, portegen o adormen als nounats durant el recorregut. \nVisita a l’exposició: Senga Nengudi i Maren Hassinger \nMés informació: Institut Valencià d’Art Modern
URL:https://familiespelvalencia.org/activitat/museu-en-familia-una-visiteta-a-livam/
LOCATION:Marina Alta
END:VEVENT
BEGIN:VEVENT
DTSTART;TZID=Europe/Paris:20250928T110000
DTEND;TZID=Europe/Paris:20250928T120000
DTSTAMP:20260424T052726
CREATED:20251020T151330Z
LAST-MODIFIED:20251021T164904Z
UID:10000020-1759057200-1759060800@familiespelvalencia.org
SUMMARY:Concert Dani Miquel
DESCRIPTION:
URL:https://familiespelvalencia.org/activitat/concert-dani-miquel-4/
LOCATION:Marina Alta
END:VEVENT
BEGIN:VEVENT
DTSTART;TZID=Europe/Paris:20250928T110000
DTEND;TZID=Europe/Paris:20250928T120000
DTSTAMP:20260424T052726
CREATED:20251020T151400Z
LAST-MODIFIED:20251021T164919Z
UID:10000021-1759057200-1759060800@familiespelvalencia.org
SUMMARY:Contacontes.- Lorena Comín (XI edició de la Ruta de Contacontes de l’Alcoià i el Comtat)
DESCRIPTION:
URL:https://familiespelvalencia.org/activitat/contacontes-lorena-comin-xi-edicio-de-la-ruta-de-contacontes-de-lalcoia-i-el-comtat/
LOCATION:Marina Alta
END:VEVENT
END:VCALENDAR